BEGIN:VCALENDAR
VERSION:2.0
PRODID:-//Récits Voyageurs - ECPv6.15.20//NONSGML v1.0//EN
CALSCALE:GREGORIAN
METHOD:PUBLISH
X-WR-CALNAME:Récits Voyageurs
X-ORIGINAL-URL:https://recitsvoyageurs.fr
X-WR-CALDESC:Évènements pour Récits Voyageurs
REFRESH-INTERVAL;VALUE=DURATION:PT1H
X-Robots-Tag:noindex
X-PUBLISHED-TTL:PT1H
BEGIN:VTIMEZONE
TZID:Europe/Paris
BEGIN:DAYLIGHT
TZOFFSETFROM:+0100
TZOFFSETTO:+0200
TZNAME:CEST
DTSTART:20250330T010000
END:DAYLIGHT
BEGIN:STANDARD
TZOFFSETFROM:+0200
TZOFFSETTO:+0100
TZNAME:CET
DTSTART:20251026T010000
END:STANDARD
BEGIN:DAYLIGHT
TZOFFSETFROM:+0100
TZOFFSETTO:+0200
TZNAME:CEST
DTSTART:20260329T010000
END:DAYLIGHT
BEGIN:STANDARD
TZOFFSETFROM:+0200
TZOFFSETTO:+0100
TZNAME:CET
DTSTART:20261025T010000
END:STANDARD
BEGIN:DAYLIGHT
TZOFFSETFROM:+0100
TZOFFSETTO:+0200
TZNAME:CEST
DTSTART:20270328T010000
END:DAYLIGHT
BEGIN:STANDARD
TZOFFSETFROM:+0200
TZOFFSETTO:+0100
TZNAME:CET
DTSTART:20271031T010000
END:STANDARD
END:VTIMEZONE
BEGIN:VEVENT
DTSTART;TZID=Europe/Paris:20260607T080000
DTEND;TZID=Europe/Paris:20260607T094500
DTSTAMP:20260424T015530
CREATED:20251130T170051Z
LAST-MODIFIED:20251130T170051Z
UID:1882-1780819200-1780825500@recitsvoyageurs.fr
SUMMARY:Randonnée intentionnée avec une association de Luzy
DESCRIPTION:
URL:https://recitsvoyageurs.fr/event/randonnee-intentionnee-avec-une-association-de-luzy/
LOCATION:Luzy\, LUZY\, France
CATEGORIES:Randonnée
END:VEVENT
BEGIN:VEVENT
DTSTART;TZID=Europe/Paris:20260607T200000
DTEND;TZID=Europe/Paris:20260607T220000
DTSTAMP:20260424T015530
CREATED:20251130T175841Z
LAST-MODIFIED:20251130T180433Z
UID:1898-1780862400-1780869600@recitsvoyageurs.fr
SUMMARY:Film Pieds Libres de Caroline Moireaux
DESCRIPTION:Avec Les Pieds libres\, Caroline Moireaux signe un film sensible et lumineux qui explore la quête d’émancipation\, la force du mouvement et la liberté d’exister hors des cadres imposés. À travers un regard à la fois intime et poétique\, la réalisatrice offre une immersion dans un univers où le corps devient langage et territoire de reconquête. \nEn savoir plus
URL:https://recitsvoyageurs.fr/event/film-pieds-libres-de-caroline-moireaux/
LOCATION:Luzy\, LUZY\, France
CATEGORIES:Film
ATTACH;FMTTYPE=image/jpeg:https://recitsvoyageurs.fr/wp-content/uploads/2025/11/Tour-du-monde-Moireaux.jpg
END:VEVENT
END:VCALENDAR